BEGIN:VCALENDAR
VERSION:2.0
PRODID:-//Kyoto - ECPv6.15.17.1//NONSGML v1.0//EN
CALSCALE:GREGORIAN
METHOD:PUBLISH
X-WR-CALNAME:Kyoto
X-ORIGINAL-URL:https://acehotel.com/kyoto
X-WR-CALDESC:Events for Kyoto
REFRESH-INTERVAL;VALUE=DURATION:PT1H
X-Robots-Tag:noindex
X-PUBLISHED-TTL:PT1H
BEGIN:VTIMEZONE
TZID:Asia/Tokyo
BEGIN:STANDARD
TZOFFSETFROM:+0900
TZOFFSETTO:+0900
TZNAME:JST
DTSTART:20250101T000000
END:STANDARD
END:VTIMEZONE
BEGIN:VEVENT
DTSTART;TZID=Asia/Tokyo:20260502T103000
DTEND;TZID=Asia/Tokyo:20260502T140000
DTSTAMP:20260422T210712
CREATED:20260422T005725Z
LAST-MODIFIED:20260422T010248Z
UID:25344-1777717800-1777730400@acehotel.com
SUMMARY:SLOW SERIES Explore Through a Photo Tour Workshop with Satoko Imazu
DESCRIPTION:SLOW SERIES | Explore Through a Photo Tour Workshop with Satoko ImazuA Photo Tour Workshop with IMAZU SATOKO \nJoin artist-in-residence Satoko Imazu for a special photo tour workshop through the Kyoto Imperial Palace\, the setting of her current exhibition. While enveloped in its imperial atmosphere\, participants will rediscover subtle traces of everyday life and the surrounding Kyoto landscape—revealed through the artist’s unique perspective. \nOn the day\, alongside enjoying the act of photographing\, there will be an open and relaxed setting where participants can casually ask about equipment and techniques. Experience the depth of photography and a new way of seeing familiar scenery. \nMeet at the Lobby Gallery at 10:30 AM. \n  \nSLOW SERIES｜Explore Through a Photo Tour Workshop with Satoko Imazu \nIMAZU SATOKOとめぐる、フォトツアーワークショップ \nA!Rアーティスト、今津聡子とともに、展示の舞台となった京都御所を巡る特別なフォトツアーワークショップ。 \nインペリアルな空気をまといながらも、ふとした瞬間に立ち現れる人々の暮らしの気配や京都の風景を、アーティストの視点を通して再発見します。 \n当日は、撮影を楽しみながら、機材やテクニックについても気軽に聞いていただける、オープンな時間をご用意しています。写真を撮ることの奥深さと、風景の見方が少し変わる体験をお楽しみください。 \n10:30にホテル1F ロビーギャラリーにお集まりください。
URL:https://acehotel.com/kyoto/going-on/slow-series-explore-through-a-photo-tour-workshop-with-satoko-imazu/
CATEGORIES:Ace Hotel Kyoto
ATTACH;FMTTYPE=image/jpeg:https://acehotel.com/kyoto/wp-content/uploads/sites/3/2026/04/2026-5.2-Satoko-Imazu-WS_4x5-.jpg
END:VEVENT
END:VCALENDAR