BEGIN:VCALENDAR
VERSION:2.0
PRODID:-//Kyoto - ECPv6.15.17.1//NONSGML v1.0//EN
CALSCALE:GREGORIAN
METHOD:PUBLISH
X-WR-CALNAME:Kyoto
X-ORIGINAL-URL:https://acehotel.com/kyoto
X-WR-CALDESC:Events for Kyoto
REFRESH-INTERVAL;VALUE=DURATION:PT1H
X-Robots-Tag:noindex
X-PUBLISHED-TTL:PT1H
BEGIN:VTIMEZONE
TZID:Asia/Tokyo
BEGIN:STANDARD
TZOFFSETFROM:+0900
TZOFFSETTO:+0900
TZNAME:JST
DTSTART:20250101T000000
END:STANDARD
END:VTIMEZONE
BEGIN:VEVENT
DTSTART;TZID=Asia/Tokyo:20260705T180000
DTEND;TZID=Asia/Tokyo:20260705T220000
DTSTAMP:20260422T210552
CREATED:20260422T010858Z
LAST-MODIFIED:20260422T100931Z
UID:25337-1783274400-1783288800@acehotel.com
SUMMARY:Lounge NAMI
DESCRIPTION:QUEER COLLECTIVE LOUNGE NAMI HOSTS A HI-FI PARTY FOR LOW-TEMPO LOVERS WITH KONISHI YASUHARU OF LEGENDARY ART-POP OUTFIT PIZZICATO FIVE ON HEADLINER DUTY. \n*Please refrain from taking photos or making audio recordings of the performers on the day of the event. \n  \nクィア・コレクティブ「LOUNGE NAMI」が、ローテンポを愛する人々のためのハイファイ・パーティーを開催。 \n伝説的アートポップユニット、ピチカート・ファイヴの小西康陽がヘッドライナーとして登場。 \nさまよいの果てに、白い波は寄せる。\n年に一度一夜限りのラウンジ。20周年を迎え、7月5日は夕刻より開店いたします。 エースホテル京都2階piopicoで、今夜限りの特別な選曲とともに、夢のようなひとときをお過ごしください。 旧き良き珠玉の音楽と。お食事とお酒と。 \nこの夏、最初の暑気払い。 \n※当日出演者の撮影、録音はご遠慮ください。 \n  \nSUNDAY JULY 5 2026\n6PM – 10PM\n2F PIOPIKO\n\nFEE\n2\,500 JPY / Pre-Sale\n3\,000 JPY / Day-Of\n\nIncludes 1 Drink
URL:https://acehotel.com/kyoto/going-on/lounge-nami-2026/
CATEGORIES:Ace Hotel Kyoto
ATTACH;FMTTYPE=image/png:https://acehotel.com/kyoto/wp-content/uploads/sites/3/2026/04/KYO-2026-7.5-Lounge-NAMI-_Social__KYO-2024-DJ-Shiotsu-ft-Naoki-Ota-at-PIOPIKO-9x16-ENG-scaled.png
END:VEVENT
END:VCALENDAR