BEGIN:VCALENDAR
VERSION:2.0
PRODID:-//Athens - ECPv6.15.17.1//NONSGML v1.0//EN
CALSCALE:GREGORIAN
METHOD:PUBLISH
X-WR-CALNAME:Athens
X-ORIGINAL-URL:https://acehotel.com/athens
X-WR-CALDESC:Events for Athens
REFRESH-INTERVAL;VALUE=DURATION:PT1H
X-Robots-Tag:noindex
X-PUBLISHED-TTL:PT1H
BEGIN:VTIMEZONE
TZID:Europe/Athens
BEGIN:DAYLIGHT
TZOFFSETFROM:+0200
TZOFFSETTO:+0300
TZNAME:EEST
DTSTART:20250330T010000
END:DAYLIGHT
BEGIN:STANDARD
TZOFFSETFROM:+0300
TZOFFSETTO:+0200
TZNAME:EET
DTSTART:20251026T010000
END:STANDARD
BEGIN:DAYLIGHT
TZOFFSETFROM:+0200
TZOFFSETTO:+0300
TZNAME:EEST
DTSTART:20260329T010000
END:DAYLIGHT
BEGIN:STANDARD
TZOFFSETFROM:+0300
TZOFFSETTO:+0200
TZNAME:EET
DTSTART:20261025T010000
END:STANDARD
BEGIN:DAYLIGHT
TZOFFSETFROM:+0200
TZOFFSETTO:+0300
TZNAME:EEST
DTSTART:20270328T010000
END:DAYLIGHT
BEGIN:STANDARD
TZOFFSETFROM:+0300
TZOFFSETTO:+0200
TZNAME:EET
DTSTART:20271031T010000
END:STANDARD
END:VTIMEZONE
BEGIN:VEVENT
DTSTART;TZID=Europe/Athens:20260516T203000
DTEND;TZID=Europe/Athens:20260516T230000
DTSTAMP:20260421T155138
CREATED:20260421T090137Z
LAST-MODIFIED:20260421T090137Z
UID:26565-1778963400-1778972400@acehotel.com
SUMMARY:NYSIÃDES: LIVE HYBRID SET
DESCRIPTION:Where ancient soul meets electronic pulse. Join us at Sebastian for a live set unlike anything you’ve seen or heard before\, with one of the most exciting acts in the electronic world right now. \nPerforming live\, Nysiādes\, residents at London’s iconic Bacchanalia\, bring 14 million streams\, stages across three continents\, and a sound that defies every genre boundary to Ace Hotel & Swim Club. Expect a collision of dim-lit\, intimate atmosphere and otherworldly music as you enjoy your dinner and drinks. \n  \nReserve your spot online via Opentable\, via email to fb.ath@acehotel.com\, or by phone at +30 6956 335 215. \n  \nBy attending the event\, you acknowledge that photography and/or video taken during the event may be used for promotional purposes. \n  \nAbout NYSIÃDES\nNysiādes are a London-based electronic hybrid band taking listeners on a journey across time and culture. Blending ancient Mediterranean and ethnic influences with modern electronic soundscapes\, the four-piece weave together traditional instruments — flute\, mandolin\, lute\, bouzouki — with atmospheric production and powerful vocals to create something entirely their own. \nThe band brings together four remarkable musicians: Francesca Monte\, singer\, songwriter and composer with over 14 million streams and appearances on The Voice of Italy and X Factor Italy; Elena Kulstof\, producer and keys player whose classical roots and electronic expertise form the backbone of the band’s sound; Rebecca Speller\, flutist and composer trained at Trinity Laban Conservatoire; and Yiolanda Loizou\, multi-instrumentalist from Cyprus specialising in Eastern Mediterranean folk music. Ancient and futuristic. Intimate and expansive. Nysiādes don’t just perform — they transport.
URL:https://acehotel.com/athens/going-on/poolside-live-nysiades/
LOCATION:Sebastian
CATEGORIES:Ace Hotel Athens
ATTACH;FMTTYPE=image/png:https://acehotel.com/athens/wp-content/uploads/sites/14/2026/04/a4-6-1.png
END:VEVENT
END:VCALENDAR