BEGIN:VCALENDAR
VERSION:2.0
PRODID:-//Athens - ECPv6.15.17.1//NONSGML v1.0//EN
CALSCALE:GREGORIAN
METHOD:PUBLISH
X-WR-CALNAME:Athens
X-ORIGINAL-URL:https://acehotel.com/athens
X-WR-CALDESC:Events for Athens
REFRESH-INTERVAL;VALUE=DURATION:PT1H
X-Robots-Tag:noindex
X-PUBLISHED-TTL:PT1H
BEGIN:VTIMEZONE
TZID:Europe/Athens
BEGIN:DAYLIGHT
TZOFFSETFROM:+0200
TZOFFSETTO:+0300
TZNAME:EEST
DTSTART:20250330T010000
END:DAYLIGHT
BEGIN:STANDARD
TZOFFSETFROM:+0300
TZOFFSETTO:+0200
TZNAME:EET
DTSTART:20251026T010000
END:STANDARD
BEGIN:DAYLIGHT
TZOFFSETFROM:+0200
TZOFFSETTO:+0300
TZNAME:EEST
DTSTART:20260329T010000
END:DAYLIGHT
BEGIN:STANDARD
TZOFFSETFROM:+0300
TZOFFSETTO:+0200
TZNAME:EET
DTSTART:20261025T010000
END:STANDARD
BEGIN:DAYLIGHT
TZOFFSETFROM:+0200
TZOFFSETTO:+0300
TZNAME:EEST
DTSTART:20270328T010000
END:DAYLIGHT
BEGIN:STANDARD
TZOFFSETFROM:+0300
TZOFFSETTO:+0200
TZNAME:EET
DTSTART:20271031T010000
END:STANDARD
END:VTIMEZONE
BEGIN:VEVENT
DTSTART;TZID=Europe/Athens:20260510T110000
DTEND;TZID=Europe/Athens:20260510T170000
DTSTAMP:20260424T203906
CREATED:20260423T135603Z
LAST-MODIFIED:20260423T135603Z
UID:26587-1778410800-1778432400@acehotel.com
SUMMARY:Mother's Day Brunch
DESCRIPTION:Treat mum to something special this Mother’s Day. \nJoin us for a relaxed brunch served inside (or out on the Sebastian terrace\, with live DJ sets from 12–5pm) to keep the good vibes going all afternoon. \nTo make the day even sweeter\, we’re treating every table to a sharing dessert on us.
URL:https://acehotel.com/athens/going-on/mothers-day-brunch/
LOCATION:Sebastian
CATEGORIES:Ace Hotel Athens
ATTACH;FMTTYPE=image/png:https://acehotel.com/athens/wp-content/uploads/sites/14/2026/04/a4-5.png
END:VEVENT
END:VCALENDAR